BEGIN:VCALENDAR
VERSION:2.0
PRODID:-//Space Data Association - ECPv6.15.11//NONSGML v1.0//EN
CALSCALE:GREGORIAN
METHOD:PUBLISH
X-ORIGINAL-URL:https://www.space-data.org/sda
X-WR-CALDESC:Events for Space Data Association
REFRESH-INTERVAL;VALUE=DURATION:PT1H
X-Robots-Tag:noindex
X-PUBLISHED-TTL:PT1H
BEGIN:VTIMEZONE
TZID:America/New_York
BEGIN:DAYLIGHT
TZOFFSETFROM:-0500
TZOFFSETTO:-0400
TZNAME:EDT
DTSTART:20250309T070000
END:DAYLIGHT
BEGIN:STANDARD
TZOFFSETFROM:-0400
TZOFFSETTO:-0500
TZNAME:EST
DTSTART:20251102T060000
END:STANDARD
BEGIN:DAYLIGHT
TZOFFSETFROM:-0500
TZOFFSETTO:-0400
TZNAME:EDT
DTSTART:20260308T070000
END:DAYLIGHT
BEGIN:STANDARD
TZOFFSETFROM:-0400
TZOFFSETTO:-0500
TZNAME:EST
DTSTART:20261101T060000
END:STANDARD
BEGIN:DAYLIGHT
TZOFFSETFROM:-0500
TZOFFSETTO:-0400
TZNAME:EDT
DTSTART:20270314T070000
END:DAYLIGHT
BEGIN:STANDARD
TZOFFSETFROM:-0400
TZOFFSETTO:-0500
TZNAME:EST
DTSTART:20271107T060000
END:STANDARD
END:VTIMEZONE
BEGIN:VEVENT
DTSTART;VALUE=DATE:20260310
DTEND;VALUE=DATE:20260312
DTSTAMP:20260423T065557
CREATED:20251208T095712Z
LAST-MODIFIED:20251208T095717Z
UID:4165-1773100800-1773273599@www.space-data.org
SUMMARY:Paris Space Week 2026
DESCRIPTION:Since 2013\, Paris Space Week has been connecting the global space industry. Pioneering\, resilient\, and always people-centered\,PSW has built bridges between public institutions\, private companies\, and disruptive innovators.
URL:https://www.space-data.org/sda/event/paris-space-week-2026/
LOCATION:Paris
ATTACH;FMTTYPE=image/png:https://www.space-data.org/sda/wp-content/uploads/2025/12/Landing-image-1.png
END:VEVENT
BEGIN:VEVENT
DTSTART;VALUE=DATE:20260323
DTEND;VALUE=DATE:20260327
DTSTAMP:20260423T065557
CREATED:20251208T100319Z
LAST-MODIFIED:20251208T100323Z
UID:4173-1774224000-1774569599@www.space-data.org
SUMMARY:Satellite 2026
DESCRIPTION:SATShow Week is the industry’s first and largest experience of the year — uniting commercial innovators\, government and military decision-makers\, and end-users from 110+​ ​countries in Washington\, D.C. Anchored by the flagship SATELLITE event and enriched by the dedicated GovMilSpace event\, it’s where critical conversations happen and business gets done.
URL:https://www.space-data.org/sda/event/satellite-2026/
LOCATION:Walter E. Washington Convention Center\, Washington\, DC
CATEGORIES:Event
ATTACH;FMTTYPE=image/png:https://www.space-data.org/sda/wp-content/uploads/2025/12/Landing-image-2.png
END:VEVENT
END:VCALENDAR