BEGIN:VCALENDAR
VERSION:2.0
PRODID:-//Space Data Association - ECPv6.15.11//NONSGML v1.0//EN
CALSCALE:GREGORIAN
METHOD:PUBLISH
X-ORIGINAL-URL:https://www.space-data.org/sda
X-WR-CALDESC:Events for Space Data Association
REFRESH-INTERVAL;VALUE=DURATION:PT1H
X-Robots-Tag:noindex
X-PUBLISHED-TTL:PT1H
BEGIN:VTIMEZONE
TZID:America/New_York
BEGIN:DAYLIGHT
TZOFFSETFROM:-0500
TZOFFSETTO:-0400
TZNAME:EDT
DTSTART:20250309T070000
END:DAYLIGHT
BEGIN:STANDARD
TZOFFSETFROM:-0400
TZOFFSETTO:-0500
TZNAME:EST
DTSTART:20251102T060000
END:STANDARD
BEGIN:DAYLIGHT
TZOFFSETFROM:-0500
TZOFFSETTO:-0400
TZNAME:EDT
DTSTART:20260308T070000
END:DAYLIGHT
BEGIN:STANDARD
TZOFFSETFROM:-0400
TZOFFSETTO:-0500
TZNAME:EST
DTSTART:20261101T060000
END:STANDARD
BEGIN:DAYLIGHT
TZOFFSETFROM:-0500
TZOFFSETTO:-0400
TZNAME:EDT
DTSTART:20270314T070000
END:DAYLIGHT
BEGIN:STANDARD
TZOFFSETFROM:-0400
TZOFFSETTO:-0500
TZNAME:EST
DTSTART:20271107T060000
END:STANDARD
END:VTIMEZONE
BEGIN:VEVENT
DTSTART;VALUE=DATE:20260223
DTEND;VALUE=DATE:20260226
DTSTAMP:20260423T083301
CREATED:20260112T101329Z
LAST-MODIFIED:20260113T124340Z
UID:4201-1771804800-1772063999@www.space-data.org
SUMMARY:DGI 2026
DESCRIPTION:Your best opportunity to connect with the international defence and security geospatial intelligence community. \nRising geopolitical tensions\, active military conflicts\, and new digital innovations are requiring NATO members and their international allies to rethink their approach to international security. \nFind out how to navigate this evolving landscape by joining the World’s leading geospatial intelligence conference. Benchmark with over 60 nations on how they are adapting their geospatial intelligence strategies and capabilities for today and tomorrow. \nRegister HereSDA Member Discount Code: PARTNER10
URL:https://www.space-data.org/sda/event/dgi-2026/
LOCATION:The Queen Elizabeth II Centre\, London\, United Kingdom
ATTACH;FMTTYPE=image/png:https://www.space-data.org/sda/wp-content/uploads/2026/01/DGI-1.png
END:VEVENT
BEGIN:VEVENT
DTSTART;VALUE=DATE:20260226
DTEND;VALUE=DATE:20260227
DTSTAMP:20260423T083301
CREATED:20251208T094350Z
LAST-MODIFIED:20251208T094724Z
UID:4160-1772064000-1772150399@www.space-data.org
SUMMARY:GovSatCom 2026
DESCRIPTION:The GOVSATCOM Luxembourg Conference has become a key event on the agenda of International SATCOM actors from the satellite\, governmental\, institutional and defence fields.
URL:https://www.space-data.org/sda/event/govsatcom-2026/
LOCATION:Luxemburg
CATEGORIES:Event
ATTACH;FMTTYPE=image/png:https://www.space-data.org/sda/wp-content/uploads/2025/12/Landing-image.png
END:VEVENT
END:VCALENDAR