BEGIN:VCALENDAR
VERSION:2.0
PRODID:-//Space Data Association - ECPv6.15.11//NONSGML v1.0//EN
CALSCALE:GREGORIAN
METHOD:PUBLISH
X-WR-CALNAME:Space Data Association
X-ORIGINAL-URL:https://www.space-data.org/sda
X-WR-CALDESC:Events for Space Data Association
REFRESH-INTERVAL;VALUE=DURATION:PT1H
X-Robots-Tag:noindex
X-PUBLISHED-TTL:PT1H
BEGIN:VTIMEZONE
TZID:America/New_York
BEGIN:DAYLIGHT
TZOFFSETFROM:-0500
TZOFFSETTO:-0400
TZNAME:EDT
DTSTART:20240310T070000
END:DAYLIGHT
BEGIN:STANDARD
TZOFFSETFROM:-0400
TZOFFSETTO:-0500
TZNAME:EST
DTSTART:20241103T060000
END:STANDARD
BEGIN:DAYLIGHT
TZOFFSETFROM:-0500
TZOFFSETTO:-0400
TZNAME:EDT
DTSTART:20250309T070000
END:DAYLIGHT
BEGIN:STANDARD
TZOFFSETFROM:-0400
TZOFFSETTO:-0500
TZNAME:EST
DTSTART:20251102T060000
END:STANDARD
BEGIN:DAYLIGHT
TZOFFSETFROM:-0500
TZOFFSETTO:-0400
TZNAME:EDT
DTSTART:20260308T070000
END:DAYLIGHT
BEGIN:STANDARD
TZOFFSETFROM:-0400
TZOFFSETTO:-0500
TZNAME:EST
DTSTART:20261101T060000
END:STANDARD
END:VTIMEZONE
BEGIN:VEVENT
DTSTART;VALUE=DATE:20250401
DTEND;VALUE=DATE:20250405
DTSTAMP:20260425T114109
CREATED:20250128T114312Z
LAST-MODIFIED:20250128T114510Z
UID:3789-1743465600-1743811199@www.space-data.org
SUMMARY:9th European Conference on Space Debris
DESCRIPTION:1 – 4 Apr 2025\nThe EUROPEAN CONFERENCE ON SPACE DEBRIS is the largest dedicated gathering on the subject. Internationally renowned scientists\, engineers\, operators\, industry experts\, lawyers and policy makers meet here to discuss different aspects of space debris research\, including measurement techniques\, environment modelling theories\, risk analysis techniques\, protection designs\, mitigation & remediation\, as well linking with policy and regulation.
URL:https://www.space-data.org/sda/event/9th-european-conference-on-space-debris/
LOCATION:World Conference Center Bonn\, Germany
ATTACH;FMTTYPE=image/jpeg:https://www.space-data.org/sda/wp-content/uploads/2025/01/9TH-EUROPEAN-CONFERENCE-ON-SPACE-DEBRIS.jpg
END:VEVENT
BEGIN:VEVENT
DTSTART;VALUE=DATE:20250428
DTEND;VALUE=DATE:20250501
DTSTAMP:20260425T114109
CREATED:20250217T163849Z
LAST-MODIFIED:20250422T145621Z
UID:3825-1745798400-1746057599@www.space-data.org
SUMMARY:Military Space Situational Awareness
DESCRIPTION:Seize your spot at the 20th annual Military Space Situational Awareness Conference from April 28-30\, 2025. \nAs Europe’s premier event for space domain awareness\, join 250+ space professionals\, 40+ speakers\, and representatives from 20+ nations. \nImmerse yourself in three days of innovation\, collaboration with industry leaders\, and insights from international military experts. Don’t miss this “must-attend” opportunity to shape the future of situational awareness\, leaving with the tools to make immediate impact in your organization. \n“This event is great for us. I’m from the space agency\, we’re a civilian organisation\, this is a military conference\, but what this does is underscores the importance coming together – to work together” – Angus Stewart\, UK Space agency
URL:https://www.space-data.org/sda/event/military-space-situational-awareness/
LOCATION:london
ATTACH;FMTTYPE=image/jpeg:https://www.space-data.org/sda/wp-content/uploads/2025/02/MilSpaceSitAware.jpg
END:VEVENT
END:VCALENDAR