BEGIN:VCALENDAR
VERSION:2.0
PRODID:-//Space Data Association - ECPv6.15.11//NONSGML v1.0//EN
CALSCALE:GREGORIAN
METHOD:PUBLISH
X-WR-CALNAME:Space Data Association
X-ORIGINAL-URL:https://www.space-data.org/sda
X-WR-CALDESC:Events for Space Data Association
REFRESH-INTERVAL;VALUE=DURATION:PT1H
X-Robots-Tag:noindex
X-PUBLISHED-TTL:PT1H
BEGIN:VTIMEZONE
TZID:America/New_York
BEGIN:DAYLIGHT
TZOFFSETFROM:-0500
TZOFFSETTO:-0400
TZNAME:EDT
DTSTART:20240310T070000
END:DAYLIGHT
BEGIN:STANDARD
TZOFFSETFROM:-0400
TZOFFSETTO:-0500
TZNAME:EST
DTSTART:20241103T060000
END:STANDARD
BEGIN:DAYLIGHT
TZOFFSETFROM:-0500
TZOFFSETTO:-0400
TZNAME:EDT
DTSTART:20250309T070000
END:DAYLIGHT
BEGIN:STANDARD
TZOFFSETFROM:-0400
TZOFFSETTO:-0500
TZNAME:EST
DTSTART:20251102T060000
END:STANDARD
BEGIN:DAYLIGHT
TZOFFSETFROM:-0500
TZOFFSETTO:-0400
TZNAME:EDT
DTSTART:20260308T070000
END:DAYLIGHT
BEGIN:STANDARD
TZOFFSETFROM:-0400
TZOFFSETTO:-0500
TZNAME:EST
DTSTART:20261101T060000
END:STANDARD
END:VTIMEZONE
BEGIN:VEVENT
DTSTART;VALUE=DATE:20251022
DTEND;VALUE=DATE:20251024
DTSTAMP:20260423T165452
CREATED:20250912T120253Z
LAST-MODIFIED:20250912T120410Z
UID:4132-1761091200-1761263999@www.space-data.org
SUMMARY:The 7th Summit for Space Sustainability
DESCRIPTION:The 7th Summit for Space Sustainability\, co-hosted by the Secure World Foundation\, the Centre National D’études Spatiales (CNES)\, and the Government of France\, is a high-level\, multi-day international forum focused on advancing solutions for the long-term sustainability of space activities.  \nThrough a mix of keynotes\, panels\, and spotlight talks\, key themes this conference will address include: \n\n\nPolicy updates on key initiatives for space sustainability \n\n\nImpacts of space activities on the atmosphere \n\n\nViewpoints on space security and stability \n\n\nThe role – and viability – of commercial space sustainability services as part of the space economy
URL:https://www.space-data.org/sda/event/the-7th-summit-for-space-sustainability/
LOCATION:Centre de Conférences Pierre Mendès France\, Paris
ATTACH;FMTTYPE=image/png:https://www.space-data.org/sda/wp-content/uploads/2025/09/Header.png
END:VEVENT
END:VCALENDAR