BEGIN:VCALENDAR
VERSION:2.0
PRODID:-//Space Data Association - ECPv6.15.11//NONSGML v1.0//EN
CALSCALE:GREGORIAN
METHOD:PUBLISH
X-ORIGINAL-URL:https://www.space-data.org/sda
X-WR-CALDESC:Events for Space Data Association
REFRESH-INTERVAL;VALUE=DURATION:PT1H
X-Robots-Tag:noindex
X-PUBLISHED-TTL:PT1H
BEGIN:VTIMEZONE
TZID:America/New_York
BEGIN:DAYLIGHT
TZOFFSETFROM:-0500
TZOFFSETTO:-0400
TZNAME:EDT
DTSTART:20240310T070000
END:DAYLIGHT
BEGIN:STANDARD
TZOFFSETFROM:-0400
TZOFFSETTO:-0500
TZNAME:EST
DTSTART:20241103T060000
END:STANDARD
BEGIN:DAYLIGHT
TZOFFSETFROM:-0500
TZOFFSETTO:-0400
TZNAME:EDT
DTSTART:20250309T070000
END:DAYLIGHT
BEGIN:STANDARD
TZOFFSETFROM:-0400
TZOFFSETTO:-0500
TZNAME:EST
DTSTART:20251102T060000
END:STANDARD
BEGIN:DAYLIGHT
TZOFFSETFROM:-0500
TZOFFSETTO:-0400
TZNAME:EDT
DTSTART:20260308T070000
END:DAYLIGHT
BEGIN:STANDARD
TZOFFSETFROM:-0400
TZOFFSETTO:-0500
TZNAME:EST
DTSTART:20261101T060000
END:STANDARD
END:VTIMEZONE
BEGIN:VEVENT
DTSTART;VALUE=DATE:20250918
DTEND;VALUE=DATE:20250920
DTSTAMP:20260423T182207
CREATED:20250217T161400Z
LAST-MODIFIED:20250610T125249Z
UID:3817-1758153600-1758326399@www.space-data.org
SUMMARY:Space Logistics Conference
DESCRIPTION:YOUR OPPORTUNITY TO SHAPE THE FUTURE OF SERVICES IN SPACE FOR SPACE \nThe Space Logistics Industry is on track to generate $21 Billion by 2040\, 20% of the total revenue of the space economy.\n \nSAE Media Group has closely followed the progress of the field for three decades and it’s clear the community is standing on the precipice of a new era. The Space Logistics Conference is the only event which will bring together the vital stakeholders who are charting the future of the orbital ecosystem in one place\, with a distinct focus on government policy\, regulation and partnership opportunities that you will not find elsewhere.\n \nThis is your chance to connect with these leaders\, learn about successes as well as challenges and shape the way ahead.\n \nOrbital technology is going to radically alter the space environment. Satellites are going to be refuelled and repaired\, or have their orbits shifted and access to space will be more reliable and affordable. A wide-ranging logistics architecture is going to be established to enable exploration from the Moon to Mars\, as well as deeper into the solar system. Closer to Earth\, a robust cargo transfer network is going to be vital for manufacturing cutting edge technology in orbit. These topics are the foundation of The Space Logistics Conference.
URL:https://www.space-data.org/sda/event/space-logistics-conference/
ATTACH;FMTTYPE=image/jpeg:https://www.space-data.org/sda/wp-content/uploads/2025/02/Space-Logisics-Conference.jpg
END:VEVENT
END:VCALENDAR