BEGIN:VCALENDAR
VERSION:2.0
PRODID:-//Space Data Association - ECPv6.15.11//NONSGML v1.0//EN
CALSCALE:GREGORIAN
METHOD:PUBLISH
X-ORIGINAL-URL:https://www.space-data.org/sda
X-WR-CALDESC:Events for Space Data Association
REFRESH-INTERVAL;VALUE=DURATION:PT1H
X-Robots-Tag:noindex
X-PUBLISHED-TTL:PT1H
BEGIN:VTIMEZONE
TZID:America/New_York
BEGIN:DAYLIGHT
TZOFFSETFROM:-0500
TZOFFSETTO:-0400
TZNAME:EDT
DTSTART:20230312T070000
END:DAYLIGHT
BEGIN:STANDARD
TZOFFSETFROM:-0400
TZOFFSETTO:-0500
TZNAME:EST
DTSTART:20231105T060000
END:STANDARD
BEGIN:DAYLIGHT
TZOFFSETFROM:-0500
TZOFFSETTO:-0400
TZNAME:EDT
DTSTART:20240310T070000
END:DAYLIGHT
BEGIN:STANDARD
TZOFFSETFROM:-0400
TZOFFSETTO:-0500
TZNAME:EST
DTSTART:20241103T060000
END:STANDARD
BEGIN:DAYLIGHT
TZOFFSETFROM:-0500
TZOFFSETTO:-0400
TZNAME:EDT
DTSTART:20250309T070000
END:DAYLIGHT
BEGIN:STANDARD
TZOFFSETFROM:-0400
TZOFFSETTO:-0500
TZNAME:EST
DTSTART:20251102T060000
END:STANDARD
END:VTIMEZONE
BEGIN:VEVENT
DTSTART;VALUE=DATE:20241104
DTEND;VALUE=DATE:20241108
DTSTAMP:20260425T220616
CREATED:20240624T131931Z
LAST-MODIFIED:20240726T131046Z
UID:3381-1730678400-1731023999@www.space-data.org
SUMMARY:Global Milsatcom
DESCRIPTION:SAE’s Global MilSatCom’s 26th annual conference will take place from November 4-7\, 2024\, at the QEII Centre in London. Building upon its storied legacy\, this year’s Global MilSatCom introduces an expanded program designed to address the evolving needs of the MilSatCom community. Attendees will have the unique opportunity to participate in five innovative events\, all under one roof\, promising unparalleled insights and connections within the industry.  \nEnsuring Longterm Sustainability of Space and Spectrum \nHosted by the Space Data Association \n🕰️ 14:35📆 7th November 2024📍 London\, UK \nThe SDA and Satcoms Innovation Group will co-host a discussion surrounding the importance of protecting space and spectrum. As the amount of objects in orbit continues to rise\, space is becoming increasingly congested and contested. Ensuring longterm sustainability means ensuring both safety of flight and continued and protected use of spectrum. \nThis session will explore the tools and processes already in place\, as well as asking what more we need to do to ensure longterm sustainability in an increasingly complex environment.  \nHighlights of Global MilSatCom 2024 \n\n\n Cybersecurity for Space & SATCOM Focus Day (November 4\, 2024):A dedicated day focusing on the critical aspects of cybersecurity within the space and satellite communication sectors. Esteemed speakers from international defence organisations will discuss current challenges and future solutions to enhance cyber resilience.  \n\n\n\n\n Main Global MilSatCom Conference (November 5-7\, 2024):Featuring over 100 expert speakers from around the globe\, this core event will delve into the latest advancements and strategic developments in military satellite communications.  \n\n\n\n\n SME Expo & Innovation Stage:A new addition for 2024\, this platform will showcase groundbreaking technologies and innovative solutions from small and medium-sized enterprises\, fostering collaboration and growth within the industry.  \n\n\n\n\n Women in Space Forum:Celebrating the achievements and contributions of women in the MilSatCom field\, this forum aims to strengthen networks\, share knowledge\, and inspire the next generation of female leaders in space technology.  \n\n\n\n\n Graduate Careers in Space Conference:Addressing the global skills shortage in the space sector\, this forum provides a unique opportunity for students and young professionals to engage with industry leaders\, gain valuable insights\, and explore career opportunities in MilSatCom.  \n\n\nRegistration Information \nGlobal MilSatCom 2024 is free for military and government representatives\, ensuring broad participation and the opportunity to connect with over 500 military and government officials from around the world. \nFor more information and to register for the event\, please visit Global MilSatCom Website: www.globalmilsatcom.com. The Early Bird £400 saving ends June 28.
URL:https://www.space-data.org/sda/event/global-milsatcom/
LOCATION:london
CATEGORIES:Event
ATTACH;FMTTYPE=image/jpeg:https://www.space-data.org/sda/wp-content/uploads/2024/06/Featured-Image.jpg
END:VEVENT
END:VCALENDAR